BEGIN:VCALENDAR
VERSION:2.0
PRODID:http://www.kufer.de/kuferweb / DE
METHOD:PUBLISH
CALSCALE:GREGORIAN
X-WR-TIMEZONE:Europe/Berlin
BEGIN:VTIMEZONE
TZID:Europe/Berlin
X-LIC-LOCATION:Europe/Berlin
BEGIN:DAYLIGHT
TZOFFSETFROM:+0100
TZOFFSETTO:+0200
TZNAME:CEST
DTSTART;TZID=Europe/Berlin:19700329T020000
RRULE:FREQ=YEARLY;INTERVAL=1;BYDAY=-1SU;BYMONTH=3
END:DAYLIGHT
BEGIN:STANDARD
TZOFFSETFROM:+0200
TZOFFSETTO:+0100
TZNAME:CET
DTSTART;TZID=Europe/Berlin:19701025T030000
RRULE:FREQ=YEARLY;INTERVAL=1;BYDAY=-1SU;BYMONTH=10
END:STANDARD
END:VTIMEZONE
BEGIN:VEVENT
DTSTAMP:20260425T161527
DTSTART;TZID=Europe/Berlin:20270226T141500
DTEND;TZID=Europe/Berlin:20270226T173000
UID:B50823GT-20270226T141500@VHSCRAILSHEIM
SUMMARY:Modul 2 "Pädagogische Grundlagen" Schulung für Kräfte in der Ganztagesbetreuung (B50823GT) 
LOCATION:vhs, Spitalstr. 2a, Raum 01, EG, links, Spitalstraße 2a, 74564 Crailsheim
END:VEVENT
BEGIN:VEVENT
DTSTAMP:20260425T161527
DTSTART;TZID=Europe/Berlin:20270305T141500
DTEND;TZID=Europe/Berlin:20270305T173000
UID:B50823GT-20270305T141500@VHSCRAILSHEIM
SUMMARY:Modul 2 "Pädagogische Grundlagen" Schulung für Kräfte in der Ganztagesbetreuung (B50823GT) 
LOCATION:vhs, Spitalstr. 2a, Raum 01, EG, links, Spitalstraße 2a, 74564 Crailsheim
END:VEVENT
END:VCALENDAR