BEGIN:VCALENDAR
VERSION:2.0
PRODID:http://www.kufer.de/kuferweb / DE
METHOD:PUBLISH
CALSCALE:GREGORIAN
X-WR-TIMEZONE:Europe/Berlin
BEGIN:VTIMEZONE
TZID:Europe/Berlin
X-LIC-LOCATION:Europe/Berlin
BEGIN:DAYLIGHT
TZOFFSETFROM:+0100
TZOFFSETTO:+0200
TZNAME:CEST
DTSTART;TZID=Europe/Berlin:19700329T020000
RRULE:FREQ=YEARLY;INTERVAL=1;BYDAY=-1SU;BYMONTH=3
END:DAYLIGHT
BEGIN:STANDARD
TZOFFSETFROM:+0200
TZOFFSETTO:+0100
TZNAME:CET
DTSTART;TZID=Europe/Berlin:19701025T030000
RRULE:FREQ=YEARLY;INTERVAL=1;BYDAY=-1SU;BYMONTH=10
END:STANDARD
END:VTIMEZONE
BEGIN:VEVENT
DTSTAMP:20260425T190017
DTSTART;TZID=Europe/Berlin:20260224T103000
DTEND;TZID=Europe/Berlin:20260224T120000
UID:Z301320-20260224T103000@VHSCRAILSHEIM
SUMMARY:Hatha-Yoga (Z301320) 
LOCATION:vhs, Spitalstr. 2a, Raum 31, 3. OG, Spitalstraße 2a, 74564 Crailsheim
END:VEVENT
BEGIN:VEVENT
DTSTAMP:20260425T190017
DTSTART;TZID=Europe/Berlin:20260324T103000
DTEND;TZID=Europe/Berlin:20260324T120000
UID:Z301320-20260324T103000@VHSCRAILSHEIM
SUMMARY:Hatha-Yoga (Z301320) 
LOCATION:vhs, Spitalstr. 2a, Raum 31, 3. OG, Spitalstraße 2a, 74564 Crailsheim
END:VEVENT
BEGIN:VEVENT
DTSTAMP:20260425T190017
DTSTART;TZID=Europe/Berlin:20260414T103000
DTEND;TZID=Europe/Berlin:20260414T120000
UID:Z301320-20260414T103000@VHSCRAILSHEIM
SUMMARY:Hatha-Yoga (Z301320) 
LOCATION:vhs, Spitalstr. 2a, Raum 31, 3. OG, Spitalstraße 2a, 74564 Crailsheim
END:VEVENT
BEGIN:VEVENT
DTSTAMP:20260425T190017
DTSTART;TZID=Europe/Berlin:20260421T103000
DTEND;TZID=Europe/Berlin:20260421T120000
UID:Z301320-20260421T103000@VHSCRAILSHEIM
SUMMARY:Hatha-Yoga (Z301320) 
LOCATION:vhs, Spitalstr. 2a, Raum 31, 3. OG, Spitalstraße 2a, 74564 Crailsheim
END:VEVENT
BEGIN:VEVENT
DTSTAMP:20260425T190017
DTSTART;TZID=Europe/Berlin:20260428T103000
DTEND;TZID=Europe/Berlin:20260428T120000
UID:Z301320-20260428T103000@VHSCRAILSHEIM
SUMMARY:Hatha-Yoga (Z301320) 
LOCATION:vhs, Spitalstr. 2a, Raum 31, 3. OG, Spitalstraße 2a, 74564 Crailsheim
END:VEVENT
BEGIN:VEVENT
DTSTAMP:20260425T190017
DTSTART;TZID=Europe/Berlin:20260505T103000
DTEND;TZID=Europe/Berlin:20260505T120000
UID:Z301320-20260505T103000@VHSCRAILSHEIM
SUMMARY:Hatha-Yoga (Z301320) 
LOCATION:vhs, Spitalstr. 2a, Raum 31, 3. OG, Spitalstraße 2a, 74564 Crailsheim
END:VEVENT
BEGIN:VEVENT
DTSTAMP:20260425T190017
DTSTART;TZID=Europe/Berlin:20260512T103000
DTEND;TZID=Europe/Berlin:20260512T120000
UID:Z301320-20260512T103000@VHSCRAILSHEIM
SUMMARY:Hatha-Yoga (Z301320) 
LOCATION:vhs, Spitalstr. 2a, Raum 31, 3. OG, Spitalstraße 2a, 74564 Crailsheim
END:VEVENT
BEGIN:VEVENT
DTSTAMP:20260425T190017
DTSTART;TZID=Europe/Berlin:20260519T103000
DTEND;TZID=Europe/Berlin:20260519T120000
UID:Z301320-20260519T103000@VHSCRAILSHEIM
SUMMARY:Hatha-Yoga (Z301320) 
LOCATION:vhs, Spitalstr. 2a, Raum 31, 3. OG, Spitalstraße 2a, 74564 Crailsheim
END:VEVENT
BEGIN:VEVENT
DTSTAMP:20260425T190017
DTSTART;TZID=Europe/Berlin:20260609T103000
DTEND;TZID=Europe/Berlin:20260609T120000
UID:Z301320-20260609T103000@VHSCRAILSHEIM
SUMMARY:Hatha-Yoga (Z301320) 
LOCATION:vhs, Spitalstr. 2a, Raum 31, 3. OG, Spitalstraße 2a, 74564 Crailsheim
END:VEVENT
BEGIN:VEVENT
DTSTAMP:20260425T190017
DTSTART;TZID=Europe/Berlin:20260616T103000
DTEND;TZID=Europe/Berlin:20260616T120000
UID:Z301320-20260616T103000@VHSCRAILSHEIM
SUMMARY:Hatha-Yoga (Z301320) 
LOCATION:vhs, Spitalstr. 2a, Raum 31, 3. OG, Spitalstraße 2a, 74564 Crailsheim
END:VEVENT
BEGIN:VEVENT
DTSTAMP:20260425T190017
DTSTART;TZID=Europe/Berlin:20260623T103000
DTEND;TZID=Europe/Berlin:20260623T120000
UID:Z301320-20260623T103000@VHSCRAILSHEIM
SUMMARY:Hatha-Yoga (Z301320) 
LOCATION:vhs, Spitalstr. 2a, Raum 31, 3. OG, Spitalstraße 2a, 74564 Crailsheim
END:VEVENT
END:VCALENDAR