BEGIN:VCALENDAR
VERSION:2.0
PRODID:http://www.kufer.de/kuferweb / DE
METHOD:PUBLISH
CALSCALE:GREGORIAN
X-WR-TIMEZONE:Europe/Berlin
BEGIN:VTIMEZONE
TZID:Europe/Berlin
X-LIC-LOCATION:Europe/Berlin
BEGIN:DAYLIGHT
TZOFFSETFROM:+0100
TZOFFSETTO:+0200
TZNAME:CEST
DTSTART;TZID=Europe/Berlin:19700329T020000
RRULE:FREQ=YEARLY;INTERVAL=1;BYDAY=-1SU;BYMONTH=3
END:DAYLIGHT
BEGIN:STANDARD
TZOFFSETFROM:+0200
TZOFFSETTO:+0100
TZNAME:CET
DTSTART;TZID=Europe/Berlin:19701025T030000
RRULE:FREQ=YEARLY;INTERVAL=1;BYDAY=-1SU;BYMONTH=10
END:STANDARD
END:VTIMEZONE
BEGIN:VEVENT
DTSTAMP:20260423T072913
DTSTART;TZID=Europe/Berlin:20260415T174500
DTEND;TZID=Europe/Berlin:20260415T190000
UID:Z301346-20260415T174500@VHSCRAILSHEIM
SUMMARY:Harmonisierend-sanftes Hatha Yoga (Z301346) 
LOCATION:vhs, Spitalstr. 2a, Raum 31, 3. OG, Spitalstraße 2a, 74564 Crailsheim
END:VEVENT
BEGIN:VEVENT
DTSTAMP:20260423T072913
DTSTART;TZID=Europe/Berlin:20260422T174500
DTEND;TZID=Europe/Berlin:20260422T190000
UID:Z301346-20260422T174500@VHSCRAILSHEIM
SUMMARY:Harmonisierend-sanftes Hatha Yoga (Z301346) 
LOCATION:vhs, Spitalstr. 2a, Raum 31, 3. OG, Spitalstraße 2a, 74564 Crailsheim
END:VEVENT
BEGIN:VEVENT
DTSTAMP:20260423T072913
DTSTART;TZID=Europe/Berlin:20260429T174500
DTEND;TZID=Europe/Berlin:20260429T190000
UID:Z301346-20260429T174500@VHSCRAILSHEIM
SUMMARY:Harmonisierend-sanftes Hatha Yoga (Z301346) 
LOCATION:vhs, Spitalstr. 2a, Raum 31, 3. OG, Spitalstraße 2a, 74564 Crailsheim
END:VEVENT
BEGIN:VEVENT
DTSTAMP:20260423T072913
DTSTART;TZID=Europe/Berlin:20260506T174500
DTEND;TZID=Europe/Berlin:20260506T190000
UID:Z301346-20260506T174500@VHSCRAILSHEIM
SUMMARY:Harmonisierend-sanftes Hatha Yoga (Z301346) 
LOCATION:vhs, Spitalstr. 2a, Raum 31, 3. OG, Spitalstraße 2a, 74564 Crailsheim
END:VEVENT
BEGIN:VEVENT
DTSTAMP:20260423T072913
DTSTART;TZID=Europe/Berlin:20260513T174500
DTEND;TZID=Europe/Berlin:20260513T190000
UID:Z301346-20260513T174500@VHSCRAILSHEIM
SUMMARY:Harmonisierend-sanftes Hatha Yoga (Z301346) 
LOCATION:vhs, Spitalstr. 2a, Raum 31, 3. OG, Spitalstraße 2a, 74564 Crailsheim
END:VEVENT
BEGIN:VEVENT
DTSTAMP:20260423T072913
DTSTART;TZID=Europe/Berlin:20260527T174500
DTEND;TZID=Europe/Berlin:20260527T190000
UID:Z301346-20260527T174500@VHSCRAILSHEIM
SUMMARY:Harmonisierend-sanftes Hatha Yoga (Z301346) 
LOCATION:vhs, Spitalstr. 2a, Raum 31, 3. OG, Spitalstraße 2a, 74564 Crailsheim
END:VEVENT
BEGIN:VEVENT
DTSTAMP:20260423T072913
DTSTART;TZID=Europe/Berlin:20260610T174500
DTEND;TZID=Europe/Berlin:20260610T190000
UID:Z301346-20260610T174500@VHSCRAILSHEIM
SUMMARY:Harmonisierend-sanftes Hatha Yoga (Z301346) 
LOCATION:vhs, Spitalstr. 2a, Raum 31, 3. OG, Spitalstraße 2a, 74564 Crailsheim
END:VEVENT
BEGIN:VEVENT
DTSTAMP:20260423T072913
DTSTART;TZID=Europe/Berlin:20260617T174500
DTEND;TZID=Europe/Berlin:20260617T190000
UID:Z301346-20260617T174500@VHSCRAILSHEIM
SUMMARY:Harmonisierend-sanftes Hatha Yoga (Z301346) 
LOCATION:vhs, Spitalstr. 2a, Raum 31, 3. OG, Spitalstraße 2a, 74564 Crailsheim
END:VEVENT
END:VCALENDAR