BEGIN:VCALENDAR
VERSION:2.0
PRODID:http://www.kufer.de/kuferweb / DE
METHOD:PUBLISH
CALSCALE:GREGORIAN
X-WR-TIMEZONE:Europe/Berlin
BEGIN:VTIMEZONE
TZID:Europe/Berlin
X-LIC-LOCATION:Europe/Berlin
BEGIN:DAYLIGHT
TZOFFSETFROM:+0100
TZOFFSETTO:+0200
TZNAME:CEST
DTSTART;TZID=Europe/Berlin:19700329T020000
RRULE:FREQ=YEARLY;INTERVAL=1;BYDAY=-1SU;BYMONTH=3
END:DAYLIGHT
BEGIN:STANDARD
TZOFFSETFROM:+0200
TZOFFSETTO:+0100
TZNAME:CET
DTSTART;TZID=Europe/Berlin:19701025T030000
RRULE:FREQ=YEARLY;INTERVAL=1;BYDAY=-1SU;BYMONTH=10
END:STANDARD
END:VTIMEZONE
BEGIN:VEVENT
DTSTAMP:20260425T190014
DTSTART;TZID=Europe/Berlin:20260226T101500
DTEND;TZID=Europe/Berlin:20260226T114500
UID:Z301350-20260226T101500@VHSCRAILSHEIM
SUMMARY:Energy-Yoga  für Männer und Frauen (Z301350) 
LOCATION:vhs, Spitalstr. 2a, Raum 31, 3. OG, Spitalstraße 2a, 74564 Crailsheim
END:VEVENT
BEGIN:VEVENT
DTSTAMP:20260425T190014
DTSTART;TZID=Europe/Berlin:20260305T101500
DTEND;TZID=Europe/Berlin:20260305T114500
UID:Z301350-20260305T101500@VHSCRAILSHEIM
SUMMARY:Energy-Yoga  für Männer und Frauen (Z301350) 
LOCATION:vhs, Spitalstr. 2a, Raum 31, 3. OG, Spitalstraße 2a, 74564 Crailsheim
END:VEVENT
BEGIN:VEVENT
DTSTAMP:20260425T190014
DTSTART;TZID=Europe/Berlin:20260312T101500
DTEND;TZID=Europe/Berlin:20260312T114500
UID:Z301350-20260312T101500@VHSCRAILSHEIM
SUMMARY:Energy-Yoga  für Männer und Frauen (Z301350) 
LOCATION:vhs, Spitalstr. 2a, Raum 31, 3. OG, Spitalstraße 2a, 74564 Crailsheim
END:VEVENT
BEGIN:VEVENT
DTSTAMP:20260425T190014
DTSTART;TZID=Europe/Berlin:20260319T101500
DTEND;TZID=Europe/Berlin:20260319T114500
UID:Z301350-20260319T101500@VHSCRAILSHEIM
SUMMARY:Energy-Yoga  für Männer und Frauen (Z301350) 
LOCATION:vhs, Spitalstr. 2a, Raum 31, 3. OG, Spitalstraße 2a, 74564 Crailsheim
END:VEVENT
BEGIN:VEVENT
DTSTAMP:20260425T190014
DTSTART;TZID=Europe/Berlin:20260326T101500
DTEND;TZID=Europe/Berlin:20260326T114500
UID:Z301350-20260326T101500@VHSCRAILSHEIM
SUMMARY:Energy-Yoga  für Männer und Frauen (Z301350) 
LOCATION:vhs, Spitalstr. 2a, Raum 31, 3. OG, Spitalstraße 2a, 74564 Crailsheim
END:VEVENT
BEGIN:VEVENT
DTSTAMP:20260425T190014
DTSTART;TZID=Europe/Berlin:20260416T101500
DTEND;TZID=Europe/Berlin:20260416T114500
UID:Z301350-20260416T101500@VHSCRAILSHEIM
DESCRIPTION:Laut AE wird dieser Unterrichtstag durch Fr Madeleine Kümmerer als Ersatz für Fr. Kerkmann abgehalten. Fr. Kerkmann regelt privat die Honorarzahlung mit Fr. Kümmerer. 16.04.26 (*SW): 
SUMMARY:Energy-Yoga  für Männer und Frauen (Z301350) 
LOCATION:vhs, Spitalstr. 2a, Raum 31, 3. OG, Spitalstraße 2a, 74564 Crailsheim
END:VEVENT
BEGIN:VEVENT
DTSTAMP:20260425T190014
DTSTART;TZID=Europe/Berlin:20260423T101500
DTEND;TZID=Europe/Berlin:20260423T114500
UID:Z301350-20260423T101500@VHSCRAILSHEIM
SUMMARY:Energy-Yoga  für Männer und Frauen (Z301350) 
LOCATION:vhs, Spitalstr. 2a, Raum 31, 3. OG, Spitalstraße 2a, 74564 Crailsheim
END:VEVENT
BEGIN:VEVENT
DTSTAMP:20260425T190014
DTSTART;TZID=Europe/Berlin:20260430T101500
DTEND;TZID=Europe/Berlin:20260430T114500
UID:Z301350-20260430T101500@VHSCRAILSHEIM
SUMMARY:Energy-Yoga  für Männer und Frauen (Z301350) 
LOCATION:vhs, Spitalstr. 2a, Raum 31, 3. OG, Spitalstraße 2a, 74564 Crailsheim
END:VEVENT
BEGIN:VEVENT
DTSTAMP:20260425T190014
DTSTART;TZID=Europe/Berlin:20260507T101500
DTEND;TZID=Europe/Berlin:20260507T114500
UID:Z301350-20260507T101500@VHSCRAILSHEIM
SUMMARY:Energy-Yoga  für Männer und Frauen (Z301350) 
LOCATION:vhs, Spitalstr. 2a, Raum 31, 3. OG, Spitalstraße 2a, 74564 Crailsheim
END:VEVENT
BEGIN:VEVENT
DTSTAMP:20260425T190014
DTSTART;TZID=Europe/Berlin:20260521T101500
DTEND;TZID=Europe/Berlin:20260521T114500
UID:Z301350-20260521T101500@VHSCRAILSHEIM
SUMMARY:Energy-Yoga  für Männer und Frauen (Z301350) 
LOCATION:vhs, Spitalstr. 2a, Raum 31, 3. OG, Spitalstraße 2a, 74564 Crailsheim
END:VEVENT
BEGIN:VEVENT
DTSTAMP:20260425T190014
DTSTART;TZID=Europe/Berlin:20260611T101500
DTEND;TZID=Europe/Berlin:20260611T114500
UID:Z301350-20260611T101500@VHSCRAILSHEIM
SUMMARY:Energy-Yoga  für Männer und Frauen (Z301350) 
LOCATION:vhs, Spitalstr. 2a, Raum 31, 3. OG, Spitalstraße 2a, 74564 Crailsheim
END:VEVENT
BEGIN:VEVENT
DTSTAMP:20260425T190014
DTSTART;TZID=Europe/Berlin:20260618T101500
DTEND;TZID=Europe/Berlin:20260618T114500
UID:Z301350-20260618T101500@VHSCRAILSHEIM
SUMMARY:Energy-Yoga  für Männer und Frauen (Z301350) 
LOCATION:vhs, Spitalstr. 2a, Raum 31, 3. OG, Spitalstraße 2a, 74564 Crailsheim
END:VEVENT
END:VCALENDAR