BEGIN:VCALENDAR
VERSION:2.0
PRODID:http://www.kufer.de/kuferweb / DE
METHOD:PUBLISH
CALSCALE:GREGORIAN
X-WR-TIMEZONE:Europe/Berlin
BEGIN:VTIMEZONE
TZID:Europe/Berlin
X-LIC-LOCATION:Europe/Berlin
BEGIN:DAYLIGHT
TZOFFSETFROM:+0100
TZOFFSETTO:+0200
TZNAME:CEST
DTSTART;TZID=Europe/Berlin:19700329T020000
RRULE:FREQ=YEARLY;INTERVAL=1;BYDAY=-1SU;BYMONTH=3
END:DAYLIGHT
BEGIN:STANDARD
TZOFFSETFROM:+0200
TZOFFSETTO:+0100
TZNAME:CET
DTSTART;TZID=Europe/Berlin:19701025T030000
RRULE:FREQ=YEARLY;INTERVAL=1;BYDAY=-1SU;BYMONTH=10
END:STANDARD
END:VTIMEZONE
BEGIN:VEVENT
DTSTAMP:20260426T061740
DTSTART;TZID=Europe/Berlin:20260223T190500
DTEND;TZID=Europe/Berlin:20260223T200500
UID:Z302330-20260223T190500@VHSCRAILSHEIM
SUMMARY:Pilates (Z302330) 
LOCATION:RS zur Flügelau, Martha-McCarthy-Str. 11, Turnhalle, Martha-McCarthy-Straße 11, 74564 Crailsheim
END:VEVENT
BEGIN:VEVENT
DTSTAMP:20260426T061740
DTSTART;TZID=Europe/Berlin:20260302T190500
DTEND;TZID=Europe/Berlin:20260302T200500
UID:Z302330-20260302T190500@VHSCRAILSHEIM
SUMMARY:Pilates (Z302330) 
LOCATION:RS zur Flügelau, Martha-McCarthy-Str. 11, Turnhalle, Martha-McCarthy-Straße 11, 74564 Crailsheim
END:VEVENT
BEGIN:VEVENT
DTSTAMP:20260426T061740
DTSTART;TZID=Europe/Berlin:20260309T190500
DTEND;TZID=Europe/Berlin:20260309T200500
UID:Z302330-20260309T190500@VHSCRAILSHEIM
SUMMARY:Pilates (Z302330) 
LOCATION:RS zur Flügelau, Martha-McCarthy-Str. 11, Turnhalle, Martha-McCarthy-Straße 11, 74564 Crailsheim
END:VEVENT
BEGIN:VEVENT
DTSTAMP:20260426T061740
DTSTART;TZID=Europe/Berlin:20260316T190500
DTEND;TZID=Europe/Berlin:20260316T200500
UID:Z302330-20260316T190500@VHSCRAILSHEIM
SUMMARY:Pilates (Z302330) 
LOCATION:RS zur Flügelau, Martha-McCarthy-Str. 11, Turnhalle, Martha-McCarthy-Straße 11, 74564 Crailsheim
END:VEVENT
BEGIN:VEVENT
DTSTAMP:20260426T061740
DTSTART;TZID=Europe/Berlin:20260323T190500
DTEND;TZID=Europe/Berlin:20260323T200500
UID:Z302330-20260323T190500@VHSCRAILSHEIM
SUMMARY:Pilates (Z302330) 
LOCATION:RS zur Flügelau, Martha-McCarthy-Str. 11, Turnhalle, Martha-McCarthy-Straße 11, 74564 Crailsheim
END:VEVENT
BEGIN:VEVENT
DTSTAMP:20260426T061740
DTSTART;TZID=Europe/Berlin:20260420T190500
DTEND;TZID=Europe/Berlin:20260420T200500
UID:Z302330-20260420T190500@VHSCRAILSHEIM
SUMMARY:Pilates (Z302330) 
LOCATION:RS zur Flügelau, Martha-McCarthy-Str. 11, Turnhalle, Martha-McCarthy-Straße 11, 74564 Crailsheim
END:VEVENT
BEGIN:VEVENT
DTSTAMP:20260426T061740
DTSTART;TZID=Europe/Berlin:20260427T190500
DTEND;TZID=Europe/Berlin:20260427T200500
UID:Z302330-20260427T190500@VHSCRAILSHEIM
SUMMARY:Pilates (Z302330) 
LOCATION:RS zur Flügelau, Martha-McCarthy-Str. 11, Turnhalle, Martha-McCarthy-Straße 11, 74564 Crailsheim
END:VEVENT
BEGIN:VEVENT
DTSTAMP:20260426T061740
DTSTART;TZID=Europe/Berlin:20260504T190500
DTEND;TZID=Europe/Berlin:20260504T200500
UID:Z302330-20260504T190500@VHSCRAILSHEIM
SUMMARY:Pilates (Z302330) 
LOCATION:RS zur Flügelau, Martha-McCarthy-Str. 11, Turnhalle, Martha-McCarthy-Straße 11, 74564 Crailsheim
END:VEVENT
BEGIN:VEVENT
DTSTAMP:20260426T061740
DTSTART;TZID=Europe/Berlin:20260511T190500
DTEND;TZID=Europe/Berlin:20260511T200500
UID:Z302330-20260511T190500@VHSCRAILSHEIM
SUMMARY:Pilates (Z302330) 
LOCATION:RS zur Flügelau, Martha-McCarthy-Str. 11, Turnhalle, Martha-McCarthy-Straße 11, 74564 Crailsheim
END:VEVENT
BEGIN:VEVENT
DTSTAMP:20260426T061740
DTSTART;TZID=Europe/Berlin:20260518T190500
DTEND;TZID=Europe/Berlin:20260518T200500
UID:Z302330-20260518T190500@VHSCRAILSHEIM
SUMMARY:Pilates (Z302330) 
LOCATION:RS zur Flügelau, Martha-McCarthy-Str. 11, Turnhalle, Martha-McCarthy-Straße 11, 74564 Crailsheim
END:VEVENT
BEGIN:VEVENT
DTSTAMP:20260426T061740
DTSTART;TZID=Europe/Berlin:20260601T190500
DTEND;TZID=Europe/Berlin:20260601T200500
UID:Z302330-20260601T190500@VHSCRAILSHEIM
DESCRIPTION:Termin muss geklärt werden 13.04.26, 13:43 (*SU): 
SUMMARY:Pilates (Z302330) 
LOCATION:RS zur Flügelau, Martha-McCarthy-Str. 11, Turnhalle, Martha-McCarthy-Straße 11, 74564 Crailsheim
END:VEVENT
END:VCALENDAR