BEGIN:VCALENDAR
VERSION:2.0
PRODID:http://www.kufer.de/kuferweb / DE
METHOD:PUBLISH
CALSCALE:GREGORIAN
X-WR-TIMEZONE:Europe/Berlin
BEGIN:VTIMEZONE
TZID:Europe/Berlin
X-LIC-LOCATION:Europe/Berlin
BEGIN:DAYLIGHT
TZOFFSETFROM:+0100
TZOFFSETTO:+0200
TZNAME:CEST
DTSTART;TZID=Europe/Berlin:19700329T020000
RRULE:FREQ=YEARLY;INTERVAL=1;BYDAY=-1SU;BYMONTH=3
END:DAYLIGHT
BEGIN:STANDARD
TZOFFSETFROM:+0200
TZOFFSETTO:+0100
TZNAME:CET
DTSTART;TZID=Europe/Berlin:19701025T030000
RRULE:FREQ=YEARLY;INTERVAL=1;BYDAY=-1SU;BYMONTH=10
END:STANDARD
END:VTIMEZONE
BEGIN:VEVENT
DTSTAMP:20260425T190013
DTSTART;TZID=Europe/Berlin:20260224T091000
DTEND;TZID=Europe/Berlin:20260224T101000
UID:Z302331-20260224T091000@VHSCRAILSHEIM
SUMMARY:Pilates Online oder Präsenz (Z302331) 
LOCATION:vhs, Spitalstr. 2a, Raum 31, 3. OG, Spitalstraße 2a, 74564 Crailsheim
END:VEVENT
BEGIN:VEVENT
DTSTAMP:20260425T190013
DTSTART;TZID=Europe/Berlin:20260303T091000
DTEND;TZID=Europe/Berlin:20260303T101000
UID:Z302331-20260303T091000@VHSCRAILSHEIM
SUMMARY:Pilates Online oder Präsenz (Z302331) 
LOCATION:vhs, Spitalstr. 2a, Raum 31, 3. OG, Spitalstraße 2a, 74564 Crailsheim
END:VEVENT
BEGIN:VEVENT
DTSTAMP:20260425T190013
DTSTART;TZID=Europe/Berlin:20260310T091000
DTEND;TZID=Europe/Berlin:20260310T101000
UID:Z302331-20260310T091000@VHSCRAILSHEIM
SUMMARY:Pilates Online oder Präsenz (Z302331) 
LOCATION:vhs, Spitalstr. 2a, Raum 31, 3. OG, Spitalstraße 2a, 74564 Crailsheim
END:VEVENT
BEGIN:VEVENT
DTSTAMP:20260425T190013
DTSTART;TZID=Europe/Berlin:20260317T091000
DTEND;TZID=Europe/Berlin:20260317T101000
UID:Z302331-20260317T091000@VHSCRAILSHEIM
SUMMARY:Pilates Online oder Präsenz (Z302331) 
LOCATION:vhs, Spitalstr. 2a, Raum 31, 3. OG, Spitalstraße 2a, 74564 Crailsheim
END:VEVENT
BEGIN:VEVENT
DTSTAMP:20260425T190013
DTSTART;TZID=Europe/Berlin:20260324T091000
DTEND;TZID=Europe/Berlin:20260324T101000
UID:Z302331-20260324T091000@VHSCRAILSHEIM
SUMMARY:Pilates Online oder Präsenz (Z302331) 
LOCATION:vhs, Spitalstr. 2a, Raum 31, 3. OG, Spitalstraße 2a, 74564 Crailsheim
END:VEVENT
BEGIN:VEVENT
DTSTAMP:20260425T190013
DTSTART;TZID=Europe/Berlin:20260421T091000
DTEND;TZID=Europe/Berlin:20260421T101000
UID:Z302331-20260421T091000@VHSCRAILSHEIM
SUMMARY:Pilates Online oder Präsenz (Z302331) 
LOCATION:vhs, Spitalstr. 2a, Raum 31, 3. OG, Spitalstraße 2a, 74564 Crailsheim
END:VEVENT
BEGIN:VEVENT
DTSTAMP:20260425T190013
DTSTART;TZID=Europe/Berlin:20260428T091000
DTEND;TZID=Europe/Berlin:20260428T101000
UID:Z302331-20260428T091000@VHSCRAILSHEIM
SUMMARY:Pilates Online oder Präsenz (Z302331) 
LOCATION:vhs, Spitalstr. 2a, Raum 31, 3. OG, Spitalstraße 2a, 74564 Crailsheim
END:VEVENT
BEGIN:VEVENT
DTSTAMP:20260425T190013
DTSTART;TZID=Europe/Berlin:20260505T091000
DTEND;TZID=Europe/Berlin:20260505T101000
UID:Z302331-20260505T091000@VHSCRAILSHEIM
SUMMARY:Pilates Online oder Präsenz (Z302331) 
LOCATION:vhs, Spitalstr. 2a, Raum 31, 3. OG, Spitalstraße 2a, 74564 Crailsheim
END:VEVENT
BEGIN:VEVENT
DTSTAMP:20260425T190013
DTSTART;TZID=Europe/Berlin:20260512T091000
DTEND;TZID=Europe/Berlin:20260512T101000
UID:Z302331-20260512T091000@VHSCRAILSHEIM
SUMMARY:Pilates Online oder Präsenz (Z302331) 
LOCATION:vhs, Spitalstr. 2a, Raum 31, 3. OG, Spitalstraße 2a, 74564 Crailsheim
END:VEVENT
BEGIN:VEVENT
DTSTAMP:20260425T190013
DTSTART;TZID=Europe/Berlin:20260519T091000
DTEND;TZID=Europe/Berlin:20260519T101000
UID:Z302331-20260519T091000@VHSCRAILSHEIM
SUMMARY:Pilates Online oder Präsenz (Z302331) 
LOCATION:vhs, Spitalstr. 2a, Raum 31, 3. OG, Spitalstraße 2a, 74564 Crailsheim
END:VEVENT
BEGIN:VEVENT
DTSTAMP:20260425T190013
DTSTART;TZID=Europe/Berlin:20260602T091000
DTEND;TZID=Europe/Berlin:20260602T101000
UID:Z302331-20260602T091000@VHSCRAILSHEIM
DESCRIPTION:Termin muss geklärt werden 13.04.26, 13:44 (*SU): 
SUMMARY:Pilates Online oder Präsenz (Z302331) 
LOCATION:vhs, Spitalstr. 2a, Raum 31, 3. OG, Spitalstraße 2a, 74564 Crailsheim
END:VEVENT
END:VCALENDAR