BEGIN:VCALENDAR
VERSION:2.0
PRODID:http://www.kufer.de/kuferweb / DE
METHOD:PUBLISH
CALSCALE:GREGORIAN
X-WR-TIMEZONE:Europe/Berlin
BEGIN:VTIMEZONE
TZID:Europe/Berlin
X-LIC-LOCATION:Europe/Berlin
BEGIN:DAYLIGHT
TZOFFSETFROM:+0100
TZOFFSETTO:+0200
TZNAME:CEST
DTSTART;TZID=Europe/Berlin:19700329T020000
RRULE:FREQ=YEARLY;INTERVAL=1;BYDAY=-1SU;BYMONTH=3
END:DAYLIGHT
BEGIN:STANDARD
TZOFFSETFROM:+0200
TZOFFSETTO:+0100
TZNAME:CET
DTSTART;TZID=Europe/Berlin:19701025T030000
RRULE:FREQ=YEARLY;INTERVAL=1;BYDAY=-1SU;BYMONTH=10
END:STANDARD
END:VTIMEZONE
BEGIN:VEVENT
DTSTAMP:20260425T202348
DTSTART;TZID=Europe/Berlin:20260225T175000
DTEND;TZID=Europe/Berlin:20260225T185000
UID:Z302332-20260225T175000@VHSCRAILSHEIM
SUMMARY:Pilates (Z302332) 
LOCATION:Käthe-Kollwitz-Schule, Salzburger Str. 32, Turnhalle, Salzburger Straße 32, 74564 Crailsheim
END:VEVENT
BEGIN:VEVENT
DTSTAMP:20260425T202348
DTSTART;TZID=Europe/Berlin:20260304T175000
DTEND;TZID=Europe/Berlin:20260304T185000
UID:Z302332-20260304T175000@VHSCRAILSHEIM
SUMMARY:Pilates (Z302332) 
LOCATION:Käthe-Kollwitz-Schule, Salzburger Str. 32, Turnhalle, Salzburger Straße 32, 74564 Crailsheim
END:VEVENT
BEGIN:VEVENT
DTSTAMP:20260425T202348
DTSTART;TZID=Europe/Berlin:20260311T175000
DTEND;TZID=Europe/Berlin:20260311T185000
UID:Z302332-20260311T175000@VHSCRAILSHEIM
SUMMARY:Pilates (Z302332) 
LOCATION:Käthe-Kollwitz-Schule, Salzburger Str. 32, Turnhalle, Salzburger Straße 32, 74564 Crailsheim
END:VEVENT
BEGIN:VEVENT
DTSTAMP:20260425T202348
DTSTART;TZID=Europe/Berlin:20260318T175000
DTEND;TZID=Europe/Berlin:20260318T185000
UID:Z302332-20260318T175000@VHSCRAILSHEIM
SUMMARY:Pilates (Z302332) 
LOCATION:Käthe-Kollwitz-Schule, Salzburger Str. 32, Turnhalle, Salzburger Straße 32, 74564 Crailsheim
END:VEVENT
BEGIN:VEVENT
DTSTAMP:20260425T202348
DTSTART;TZID=Europe/Berlin:20260325T175000
DTEND;TZID=Europe/Berlin:20260325T185000
UID:Z302332-20260325T175000@VHSCRAILSHEIM
SUMMARY:Pilates (Z302332) 
LOCATION:Käthe-Kollwitz-Schule, Salzburger Str. 32, Turnhalle, Salzburger Straße 32, 74564 Crailsheim
END:VEVENT
BEGIN:VEVENT
DTSTAMP:20260425T202348
DTSTART;TZID=Europe/Berlin:20260422T175000
DTEND;TZID=Europe/Berlin:20260422T185000
UID:Z302332-20260422T175000@VHSCRAILSHEIM
SUMMARY:Pilates (Z302332) 
LOCATION:Käthe-Kollwitz-Schule, Salzburger Str. 32, Turnhalle, Salzburger Straße 32, 74564 Crailsheim
END:VEVENT
BEGIN:VEVENT
DTSTAMP:20260425T202348
DTSTART;TZID=Europe/Berlin:20260429T175000
DTEND;TZID=Europe/Berlin:20260429T185000
UID:Z302332-20260429T175000@VHSCRAILSHEIM
SUMMARY:Pilates (Z302332) 
LOCATION:Käthe-Kollwitz-Schule, Salzburger Str. 32, Turnhalle, Salzburger Straße 32, 74564 Crailsheim
END:VEVENT
BEGIN:VEVENT
DTSTAMP:20260425T202348
DTSTART;TZID=Europe/Berlin:20260506T175000
DTEND;TZID=Europe/Berlin:20260506T185000
UID:Z302332-20260506T175000@VHSCRAILSHEIM
SUMMARY:Pilates (Z302332) 
LOCATION:Käthe-Kollwitz-Schule, Salzburger Str. 32, Turnhalle, Salzburger Straße 32, 74564 Crailsheim
END:VEVENT
BEGIN:VEVENT
DTSTAMP:20260425T202348
DTSTART;TZID=Europe/Berlin:20260513T175000
DTEND;TZID=Europe/Berlin:20260513T185000
UID:Z302332-20260513T175000@VHSCRAILSHEIM
SUMMARY:Pilates (Z302332) 
LOCATION:Käthe-Kollwitz-Schule, Salzburger Str. 32, Turnhalle, Salzburger Straße 32, 74564 Crailsheim
END:VEVENT
BEGIN:VEVENT
DTSTAMP:20260425T202348
DTSTART;TZID=Europe/Berlin:20260520T175000
DTEND;TZID=Europe/Berlin:20260520T185000
UID:Z302332-20260520T175000@VHSCRAILSHEIM
SUMMARY:Pilates (Z302332) 
LOCATION:Käthe-Kollwitz-Schule, Salzburger Str. 32, Turnhalle, Salzburger Straße 32, 74564 Crailsheim
END:VEVENT
BEGIN:VEVENT
DTSTAMP:20260425T202348
DTSTART;TZID=Europe/Berlin:20260603T175000
DTEND;TZID=Europe/Berlin:20260603T185000
UID:Z302332-20260603T175000@VHSCRAILSHEIM
DESCRIPTION:Termin muss geklärt werden 13.04.26, 13:44 (*SU):
SUMMARY:Pilates (Z302332) 
LOCATION:Käthe-Kollwitz-Schule, Salzburger Str. 32, Turnhalle, Salzburger Straße 32, 74564 Crailsheim
END:VEVENT
END:VCALENDAR