BEGIN:VCALENDAR
VERSION:2.0
PRODID:http://www.kufer.de/kuferweb / DE
METHOD:PUBLISH
CALSCALE:GREGORIAN
X-WR-TIMEZONE:Europe/Berlin
BEGIN:VTIMEZONE
TZID:Europe/Berlin
X-LIC-LOCATION:Europe/Berlin
BEGIN:DAYLIGHT
TZOFFSETFROM:+0100
TZOFFSETTO:+0200
TZNAME:CEST
DTSTART;TZID=Europe/Berlin:19700329T020000
RRULE:FREQ=YEARLY;INTERVAL=1;BYDAY=-1SU;BYMONTH=3
END:DAYLIGHT
BEGIN:STANDARD
TZOFFSETFROM:+0200
TZOFFSETTO:+0100
TZNAME:CET
DTSTART;TZID=Europe/Berlin:19701025T030000
RRULE:FREQ=YEARLY;INTERVAL=1;BYDAY=-1SU;BYMONTH=10
END:STANDARD
END:VTIMEZONE
BEGIN:VEVENT
DTSTAMP:20260423T092836
DTSTART;TZID=Europe/Berlin:20260220T204500
DTEND;TZID=Europe/Berlin:20260220T213000
UID:Z302955-20260220T204500@VHSCRAILSHEIM
DESCRIPTION:Alt 27.02.26. An diesem Tag hat jedoch weder Fr. Buckel noch Fr. König Zeit.
Verschiebung auf Wunsch von Fr. Buckel 18.02.26 (*SW): 
SUMMARY:Aqua-Fitness für Frauen und Männer (Z302955) 
LOCATION:Hallenbad, In den Kistenwiesen 1, In den Kistenwiesen 1, 74564 Crailsheim
END:VEVENT
BEGIN:VEVENT
DTSTAMP:20260423T092836
DTSTART;TZID=Europe/Berlin:20260306T204500
DTEND;TZID=Europe/Berlin:20260306T213000
UID:Z302955-20260306T204500@VHSCRAILSHEIM
SUMMARY:Aqua-Fitness für Frauen und Männer (Z302955) 
LOCATION:Hallenbad, In den Kistenwiesen 1, In den Kistenwiesen 1, 74564 Crailsheim
END:VEVENT
BEGIN:VEVENT
DTSTAMP:20260423T092836
DTSTART;TZID=Europe/Berlin:20260313T204500
DTEND;TZID=Europe/Berlin:20260313T213000
UID:Z302955-20260313T204500@VHSCRAILSHEIM
SUMMARY:Aqua-Fitness für Frauen und Männer (Z302955) 
LOCATION:Hallenbad, In den Kistenwiesen 1, In den Kistenwiesen 1, 74564 Crailsheim
END:VEVENT
BEGIN:VEVENT
DTSTAMP:20260423T092836
DTSTART;TZID=Europe/Berlin:20260320T204500
DTEND;TZID=Europe/Berlin:20260320T213000
UID:Z302955-20260320T204500@VHSCRAILSHEIM
SUMMARY:Aqua-Fitness für Frauen und Männer (Z302955) 
LOCATION:Hallenbad, In den Kistenwiesen 1, In den Kistenwiesen 1, 74564 Crailsheim
END:VEVENT
BEGIN:VEVENT
DTSTAMP:20260423T092836
DTSTART;TZID=Europe/Berlin:20260327T204500
DTEND;TZID=Europe/Berlin:20260327T213000
UID:Z302955-20260327T204500@VHSCRAILSHEIM
SUMMARY:Aqua-Fitness für Frauen und Männer (Z302955) 
LOCATION:Hallenbad, In den Kistenwiesen 1, In den Kistenwiesen 1, 74564 Crailsheim
END:VEVENT
BEGIN:VEVENT
DTSTAMP:20260423T092836
DTSTART;TZID=Europe/Berlin:20260417T204500
DTEND;TZID=Europe/Berlin:20260417T213000
UID:Z302955-20260417T204500@VHSCRAILSHEIM
SUMMARY:Aqua-Fitness für Frauen und Männer (Z302955) 
LOCATION:Hallenbad, In den Kistenwiesen 1, In den Kistenwiesen 1, 74564 Crailsheim
END:VEVENT
BEGIN:VEVENT
DTSTAMP:20260423T092836
DTSTART;TZID=Europe/Berlin:20260424T204500
DTEND;TZID=Europe/Berlin:20260424T213000
UID:Z302955-20260424T204500@VHSCRAILSHEIM
SUMMARY:Aqua-Fitness für Frauen und Männer (Z302955) 
LOCATION:Hallenbad, In den Kistenwiesen 1, In den Kistenwiesen 1, 74564 Crailsheim
END:VEVENT
BEGIN:VEVENT
DTSTAMP:20260423T092836
DTSTART;TZID=Europe/Berlin:20260508T204500
DTEND;TZID=Europe/Berlin:20260508T213000
UID:Z302955-20260508T204500@VHSCRAILSHEIM
SUMMARY:Aqua-Fitness für Frauen und Männer (Z302955) 
LOCATION:Hallenbad, In den Kistenwiesen 1, In den Kistenwiesen 1, 74564 Crailsheim
END:VEVENT
BEGIN:VEVENT
DTSTAMP:20260423T092836
DTSTART;TZID=Europe/Berlin:20260515T204500
DTEND;TZID=Europe/Berlin:20260515T213000
UID:Z302955-20260515T204500@VHSCRAILSHEIM
SUMMARY:Aqua-Fitness für Frauen und Männer (Z302955) 
LOCATION:Hallenbad, In den Kistenwiesen 1, In den Kistenwiesen 1, 74564 Crailsheim
END:VEVENT
BEGIN:VEVENT
DTSTAMP:20260423T092836
DTSTART;TZID=Europe/Berlin:20260522T204500
DTEND;TZID=Europe/Berlin:20260522T213000
UID:Z302955-20260522T204500@VHSCRAILSHEIM
SUMMARY:Aqua-Fitness für Frauen und Männer (Z302955) 
LOCATION:Hallenbad, In den Kistenwiesen 1, In den Kistenwiesen 1, 74564 Crailsheim
END:VEVENT
END:VCALENDAR