BEGIN:VCALENDAR
VERSION:2.0
PRODID:http://www.kufer.de/kuferweb / DE
METHOD:PUBLISH
CALSCALE:GREGORIAN
X-WR-TIMEZONE:Europe/Berlin
BEGIN:VTIMEZONE
TZID:Europe/Berlin
X-LIC-LOCATION:Europe/Berlin
BEGIN:DAYLIGHT
TZOFFSETFROM:+0100
TZOFFSETTO:+0200
TZNAME:CEST
DTSTART;TZID=Europe/Berlin:19700329T020000
RRULE:FREQ=YEARLY;INTERVAL=1;BYDAY=-1SU;BYMONTH=3
END:DAYLIGHT
BEGIN:STANDARD
TZOFFSETFROM:+0200
TZOFFSETTO:+0100
TZNAME:CET
DTSTART;TZID=Europe/Berlin:19701025T030000
RRULE:FREQ=YEARLY;INTERVAL=1;BYDAY=-1SU;BYMONTH=10
END:STANDARD
END:VTIMEZONE
BEGIN:VEVENT
DTSTAMP:20260422T080655
DTSTART;TZID=Europe/Berlin:20260610T190000
DTEND;TZID=Europe/Berlin:20260610T194500
UID:Z302973-20260610T190000@VHSCRAILSHEIM
SUMMARY:Aqua-Fitness im Sommer  für Frauen und Männer (Z302973) 
LOCATION:Freibad Goldbach, Am Hornberg 18, 74564 Crailsheim
END:VEVENT
BEGIN:VEVENT
DTSTAMP:20260422T080655
DTSTART;TZID=Europe/Berlin:20260617T190000
DTEND;TZID=Europe/Berlin:20260617T194500
UID:Z302973-20260617T190000@VHSCRAILSHEIM
SUMMARY:Aqua-Fitness im Sommer  für Frauen und Männer (Z302973) 
LOCATION:Freibad Goldbach, Am Hornberg 18, 74564 Crailsheim
END:VEVENT
BEGIN:VEVENT
DTSTAMP:20260422T080655
DTSTART;TZID=Europe/Berlin:20260624T190000
DTEND;TZID=Europe/Berlin:20260624T194500
UID:Z302973-20260624T190000@VHSCRAILSHEIM
SUMMARY:Aqua-Fitness im Sommer  für Frauen und Männer (Z302973) 
LOCATION:Freibad Goldbach, Am Hornberg 18, 74564 Crailsheim
END:VEVENT
BEGIN:VEVENT
DTSTAMP:20260422T080655
DTSTART;TZID=Europe/Berlin:20260701T190000
DTEND;TZID=Europe/Berlin:20260701T194500
UID:Z302973-20260701T190000@VHSCRAILSHEIM
SUMMARY:Aqua-Fitness im Sommer  für Frauen und Männer (Z302973) 
LOCATION:Freibad Goldbach, Am Hornberg 18, 74564 Crailsheim
END:VEVENT
BEGIN:VEVENT
DTSTAMP:20260422T080655
DTSTART;TZID=Europe/Berlin:20260708T190000
DTEND;TZID=Europe/Berlin:20260708T194500
UID:Z302973-20260708T190000@VHSCRAILSHEIM
SUMMARY:Aqua-Fitness im Sommer  für Frauen und Männer (Z302973) 
LOCATION:Freibad Goldbach, Am Hornberg 18, 74564 Crailsheim
END:VEVENT
BEGIN:VEVENT
DTSTAMP:20260422T080655
DTSTART;TZID=Europe/Berlin:20260715T190000
DTEND;TZID=Europe/Berlin:20260715T194500
UID:Z302973-20260715T190000@VHSCRAILSHEIM
SUMMARY:Aqua-Fitness im Sommer  für Frauen und Männer (Z302973) 
LOCATION:Freibad Goldbach, Am Hornberg 18, 74564 Crailsheim
END:VEVENT
END:VCALENDAR