BEGIN:VCALENDAR
VERSION:2.0
PRODID:http://www.kufer.de/kuferweb / DE
METHOD:PUBLISH
CALSCALE:GREGORIAN
X-WR-TIMEZONE:Europe/Berlin
BEGIN:VTIMEZONE
TZID:Europe/Berlin
X-LIC-LOCATION:Europe/Berlin
BEGIN:DAYLIGHT
TZOFFSETFROM:+0100
TZOFFSETTO:+0200
TZNAME:CEST
DTSTART;TZID=Europe/Berlin:19700329T020000
RRULE:FREQ=YEARLY;INTERVAL=1;BYDAY=-1SU;BYMONTH=3
END:DAYLIGHT
BEGIN:STANDARD
TZOFFSETFROM:+0200
TZOFFSETTO:+0100
TZNAME:CET
DTSTART;TZID=Europe/Berlin:19701025T030000
RRULE:FREQ=YEARLY;INTERVAL=1;BYDAY=-1SU;BYMONTH=10
END:STANDARD
END:VTIMEZONE
BEGIN:VEVENT
DTSTAMP:20260425T214558
DTSTART;TZID=Europe/Berlin:20260601T173000
DTEND;TZID=Europe/Berlin:20260601T204500
UID:Z40403-20260601T173000@VHSCRAILSHEIM
SUMMARY:Deutsch am Abend - Modul 3 (A2.1) für Teilnehmer*innen mit Grundkenntnissen (Z40403) 
LOCATION:Yanmar (ehem.) Im Fliegerhorst 2, Kursraum 2, Im Fliegerhorst 2, 74564 Crailsheim
END:VEVENT
BEGIN:VEVENT
DTSTAMP:20260425T214558
DTSTART;TZID=Europe/Berlin:20260602T173000
DTEND;TZID=Europe/Berlin:20260602T204500
UID:Z40403-20260602T173000@VHSCRAILSHEIM
SUMMARY:Deutsch am Abend - Modul 3 (A2.1) für Teilnehmer*innen mit Grundkenntnissen (Z40403) 
LOCATION:Yanmar (ehem.) Im Fliegerhorst 2, Kursraum 2, Im Fliegerhorst 2, 74564 Crailsheim
END:VEVENT
BEGIN:VEVENT
DTSTAMP:20260425T214558
DTSTART;TZID=Europe/Berlin:20260603T173000
DTEND;TZID=Europe/Berlin:20260603T204500
UID:Z40403-20260603T173000@VHSCRAILSHEIM
SUMMARY:Deutsch am Abend - Modul 3 (A2.1) für Teilnehmer*innen mit Grundkenntnissen (Z40403) 
LOCATION:Yanmar (ehem.) Im Fliegerhorst 2, Kursraum 2, Im Fliegerhorst 2, 74564 Crailsheim
END:VEVENT
BEGIN:VEVENT
DTSTAMP:20260425T214558
DTSTART;TZID=Europe/Berlin:20260608T173000
DTEND;TZID=Europe/Berlin:20260608T204500
UID:Z40403-20260608T173000@VHSCRAILSHEIM
SUMMARY:Deutsch am Abend - Modul 3 (A2.1) für Teilnehmer*innen mit Grundkenntnissen (Z40403) 
LOCATION:Yanmar (ehem.) Im Fliegerhorst 2, Kursraum 2, Im Fliegerhorst 2, 74564 Crailsheim
END:VEVENT
BEGIN:VEVENT
DTSTAMP:20260425T214558
DTSTART;TZID=Europe/Berlin:20260609T173000
DTEND;TZID=Europe/Berlin:20260609T204500
UID:Z40403-20260609T173000@VHSCRAILSHEIM
SUMMARY:Deutsch am Abend - Modul 3 (A2.1) für Teilnehmer*innen mit Grundkenntnissen (Z40403) 
LOCATION:Yanmar (ehem.) Im Fliegerhorst 2, Kursraum 2, Im Fliegerhorst 2, 74564 Crailsheim
END:VEVENT
BEGIN:VEVENT
DTSTAMP:20260425T214558
DTSTART;TZID=Europe/Berlin:20260610T173000
DTEND;TZID=Europe/Berlin:20260610T204500
UID:Z40403-20260610T173000@VHSCRAILSHEIM
SUMMARY:Deutsch am Abend - Modul 3 (A2.1) für Teilnehmer*innen mit Grundkenntnissen (Z40403) 
LOCATION:Yanmar (ehem.) Im Fliegerhorst 2, Kursraum 2, Im Fliegerhorst 2, 74564 Crailsheim
END:VEVENT
BEGIN:VEVENT
DTSTAMP:20260425T214558
DTSTART;TZID=Europe/Berlin:20260611T173000
DTEND;TZID=Europe/Berlin:20260611T204500
UID:Z40403-20260611T173000@VHSCRAILSHEIM
SUMMARY:Deutsch am Abend - Modul 3 (A2.1) für Teilnehmer*innen mit Grundkenntnissen (Z40403) 
LOCATION:Yanmar (ehem.) Im Fliegerhorst 2, Kursraum 2, Im Fliegerhorst 2, 74564 Crailsheim
END:VEVENT
BEGIN:VEVENT
DTSTAMP:20260425T214558
DTSTART;TZID=Europe/Berlin:20260615T173000
DTEND;TZID=Europe/Berlin:20260615T204500
UID:Z40403-20260615T173000@VHSCRAILSHEIM
SUMMARY:Deutsch am Abend - Modul 3 (A2.1) für Teilnehmer*innen mit Grundkenntnissen (Z40403) 
LOCATION:Yanmar (ehem.) Im Fliegerhorst 2, Kursraum 2, Im Fliegerhorst 2, 74564 Crailsheim
END:VEVENT
BEGIN:VEVENT
DTSTAMP:20260425T214558
DTSTART;TZID=Europe/Berlin:20260616T173000
DTEND;TZID=Europe/Berlin:20260616T204500
UID:Z40403-20260616T173000@VHSCRAILSHEIM
SUMMARY:Deutsch am Abend - Modul 3 (A2.1) für Teilnehmer*innen mit Grundkenntnissen (Z40403) 
LOCATION:Yanmar (ehem.) Im Fliegerhorst 2, Kursraum 2, Im Fliegerhorst 2, 74564 Crailsheim
END:VEVENT
BEGIN:VEVENT
DTSTAMP:20260425T214558
DTSTART;TZID=Europe/Berlin:20260617T173000
DTEND;TZID=Europe/Berlin:20260617T204500
UID:Z40403-20260617T173000@VHSCRAILSHEIM
SUMMARY:Deutsch am Abend - Modul 3 (A2.1) für Teilnehmer*innen mit Grundkenntnissen (Z40403) 
LOCATION:Yanmar (ehem.) Im Fliegerhorst 2, Kursraum 2, Im Fliegerhorst 2, 74564 Crailsheim
END:VEVENT
BEGIN:VEVENT
DTSTAMP:20260425T214558
DTSTART;TZID=Europe/Berlin:20260618T173000
DTEND;TZID=Europe/Berlin:20260618T204500
UID:Z40403-20260618T173000@VHSCRAILSHEIM
SUMMARY:Deutsch am Abend - Modul 3 (A2.1) für Teilnehmer*innen mit Grundkenntnissen (Z40403) 
LOCATION:Yanmar (ehem.) Im Fliegerhorst 2, Kursraum 2, Im Fliegerhorst 2, 74564 Crailsheim
END:VEVENT
BEGIN:VEVENT
DTSTAMP:20260425T214558
DTSTART;TZID=Europe/Berlin:20260622T173000
DTEND;TZID=Europe/Berlin:20260622T204500
UID:Z40403-20260622T173000@VHSCRAILSHEIM
SUMMARY:Deutsch am Abend - Modul 3 (A2.1) für Teilnehmer*innen mit Grundkenntnissen (Z40403) 
LOCATION:Yanmar (ehem.) Im Fliegerhorst 2, Kursraum 2, Im Fliegerhorst 2, 74564 Crailsheim
END:VEVENT
BEGIN:VEVENT
DTSTAMP:20260425T214558
DTSTART;TZID=Europe/Berlin:20260623T173000
DTEND;TZID=Europe/Berlin:20260623T204500
UID:Z40403-20260623T173000@VHSCRAILSHEIM
SUMMARY:Deutsch am Abend - Modul 3 (A2.1) für Teilnehmer*innen mit Grundkenntnissen (Z40403) 
LOCATION:Yanmar (ehem.) Im Fliegerhorst 2, Kursraum 2, Im Fliegerhorst 2, 74564 Crailsheim
END:VEVENT
BEGIN:VEVENT
DTSTAMP:20260425T214558
DTSTART;TZID=Europe/Berlin:20260624T173000
DTEND;TZID=Europe/Berlin:20260624T204500
UID:Z40403-20260624T173000@VHSCRAILSHEIM
SUMMARY:Deutsch am Abend - Modul 3 (A2.1) für Teilnehmer*innen mit Grundkenntnissen (Z40403) 
LOCATION:Yanmar (ehem.) Im Fliegerhorst 2, Kursraum 2, Im Fliegerhorst 2, 74564 Crailsheim
END:VEVENT
BEGIN:VEVENT
DTSTAMP:20260425T214558
DTSTART;TZID=Europe/Berlin:20260625T173000
DTEND;TZID=Europe/Berlin:20260625T204500
UID:Z40403-20260625T173000@VHSCRAILSHEIM
SUMMARY:Deutsch am Abend - Modul 3 (A2.1) für Teilnehmer*innen mit Grundkenntnissen (Z40403) 
LOCATION:Yanmar (ehem.) Im Fliegerhorst 2, Kursraum 2, Im Fliegerhorst 2, 74564 Crailsheim
END:VEVENT
BEGIN:VEVENT
DTSTAMP:20260425T214558
DTSTART;TZID=Europe/Berlin:20260629T173000
DTEND;TZID=Europe/Berlin:20260629T204500
UID:Z40403-20260629T173000@VHSCRAILSHEIM
SUMMARY:Deutsch am Abend - Modul 3 (A2.1) für Teilnehmer*innen mit Grundkenntnissen (Z40403) 
LOCATION:Yanmar (ehem.) Im Fliegerhorst 2, Kursraum 2, Im Fliegerhorst 2, 74564 Crailsheim
END:VEVENT
BEGIN:VEVENT
DTSTAMP:20260425T214558
DTSTART;TZID=Europe/Berlin:20260630T173000
DTEND;TZID=Europe/Berlin:20260630T204500
UID:Z40403-20260630T173000@VHSCRAILSHEIM
SUMMARY:Deutsch am Abend - Modul 3 (A2.1) für Teilnehmer*innen mit Grundkenntnissen (Z40403) 
LOCATION:Yanmar (ehem.) Im Fliegerhorst 2, Kursraum 2, Im Fliegerhorst 2, 74564 Crailsheim
END:VEVENT
BEGIN:VEVENT
DTSTAMP:20260425T214558
DTSTART;TZID=Europe/Berlin:20260701T173000
DTEND;TZID=Europe/Berlin:20260701T204500
UID:Z40403-20260701T173000@VHSCRAILSHEIM
SUMMARY:Deutsch am Abend - Modul 3 (A2.1) für Teilnehmer*innen mit Grundkenntnissen (Z40403) 
LOCATION:Yanmar (ehem.) Im Fliegerhorst 2, Kursraum 2, Im Fliegerhorst 2, 74564 Crailsheim
END:VEVENT
BEGIN:VEVENT
DTSTAMP:20260425T214558
DTSTART;TZID=Europe/Berlin:20260702T173000
DTEND;TZID=Europe/Berlin:20260702T204500
UID:Z40403-20260702T173000@VHSCRAILSHEIM
SUMMARY:Deutsch am Abend - Modul 3 (A2.1) für Teilnehmer*innen mit Grundkenntnissen (Z40403) 
LOCATION:Yanmar (ehem.) Im Fliegerhorst 2, Kursraum 2, Im Fliegerhorst 2, 74564 Crailsheim
END:VEVENT
BEGIN:VEVENT
DTSTAMP:20260425T214558
DTSTART;TZID=Europe/Berlin:20260706T173000
DTEND;TZID=Europe/Berlin:20260706T204500
UID:Z40403-20260706T173000@VHSCRAILSHEIM
SUMMARY:Deutsch am Abend - Modul 3 (A2.1) für Teilnehmer*innen mit Grundkenntnissen (Z40403) 
LOCATION:Yanmar (ehem.) Im Fliegerhorst 2, Kursraum 2, Im Fliegerhorst 2, 74564 Crailsheim
END:VEVENT
BEGIN:VEVENT
DTSTAMP:20260425T214558
DTSTART;TZID=Europe/Berlin:20260707T173000
DTEND;TZID=Europe/Berlin:20260707T204500
UID:Z40403-20260707T173000@VHSCRAILSHEIM
SUMMARY:Deutsch am Abend - Modul 3 (A2.1) für Teilnehmer*innen mit Grundkenntnissen (Z40403) 
LOCATION:Yanmar (ehem.) Im Fliegerhorst 2, Kursraum 2, Im Fliegerhorst 2, 74564 Crailsheim
END:VEVENT
BEGIN:VEVENT
DTSTAMP:20260425T214558
DTSTART;TZID=Europe/Berlin:20260708T173000
DTEND;TZID=Europe/Berlin:20260708T204500
UID:Z40403-20260708T173000@VHSCRAILSHEIM
SUMMARY:Deutsch am Abend - Modul 3 (A2.1) für Teilnehmer*innen mit Grundkenntnissen (Z40403) 
LOCATION:Yanmar (ehem.) Im Fliegerhorst 2, Kursraum 2, Im Fliegerhorst 2, 74564 Crailsheim
END:VEVENT
BEGIN:VEVENT
DTSTAMP:20260425T214558
DTSTART;TZID=Europe/Berlin:20260709T173000
DTEND;TZID=Europe/Berlin:20260709T204500
UID:Z40403-20260709T173000@VHSCRAILSHEIM
SUMMARY:Deutsch am Abend - Modul 3 (A2.1) für Teilnehmer*innen mit Grundkenntnissen (Z40403) 
LOCATION:Yanmar (ehem.) Im Fliegerhorst 2, Kursraum 2, Im Fliegerhorst 2, 74564 Crailsheim
END:VEVENT
BEGIN:VEVENT
DTSTAMP:20260425T214558
DTSTART;TZID=Europe/Berlin:20260713T173000
DTEND;TZID=Europe/Berlin:20260713T204500
UID:Z40403-20260713T173000@VHSCRAILSHEIM
SUMMARY:Deutsch am Abend - Modul 3 (A2.1) für Teilnehmer*innen mit Grundkenntnissen (Z40403) 
LOCATION:Yanmar (ehem.) Im Fliegerhorst 2, Kursraum 2, Im Fliegerhorst 2, 74564 Crailsheim
END:VEVENT
BEGIN:VEVENT
DTSTAMP:20260425T214558
DTSTART;TZID=Europe/Berlin:20260714T173000
DTEND;TZID=Europe/Berlin:20260714T204500
UID:Z40403-20260714T173000@VHSCRAILSHEIM
SUMMARY:Deutsch am Abend - Modul 3 (A2.1) für Teilnehmer*innen mit Grundkenntnissen (Z40403) 
LOCATION:Yanmar (ehem.) Im Fliegerhorst 2, Kursraum 2, Im Fliegerhorst 2, 74564 Crailsheim
END:VEVENT
END:VCALENDAR