BEGIN:VCALENDAR
VERSION:2.0
PRODID:http://www.kufer.de/kuferweb / DE
METHOD:PUBLISH
CALSCALE:GREGORIAN
X-WR-TIMEZONE:Europe/Berlin
BEGIN:VTIMEZONE
TZID:Europe/Berlin
X-LIC-LOCATION:Europe/Berlin
BEGIN:DAYLIGHT
TZOFFSETFROM:+0100
TZOFFSETTO:+0200
TZNAME:CEST
DTSTART;TZID=Europe/Berlin:19700329T020000
RRULE:FREQ=YEARLY;INTERVAL=1;BYDAY=-1SU;BYMONTH=3
END:DAYLIGHT
BEGIN:STANDARD
TZOFFSETFROM:+0200
TZOFFSETTO:+0100
TZNAME:CET
DTSTART;TZID=Europe/Berlin:19701025T030000
RRULE:FREQ=YEARLY;INTERVAL=1;BYDAY=-1SU;BYMONTH=10
END:STANDARD
END:VTIMEZONE
BEGIN:VEVENT
DTSTAMP:20260425T214425
DTSTART;TZID=Europe/Berlin:20260414T133000
DTEND;TZID=Europe/Berlin:20260414T164500
UID:Z40484AZ-20260414T133000@VHSCRAILSHEIM
SUMMARY:Berufsbezogener Deutschkurs (DeuFöV) für Auszubildende-Gewerbe und Technik (Z40484AZ) 
LOCATION:Gewerbliche Schule, Blaufelder Str. 10, Blaufelder Str. 10, 74564 Crailsheim
END:VEVENT
BEGIN:VEVENT
DTSTAMP:20260425T214425
DTSTART;TZID=Europe/Berlin:20260416T133000
DTEND;TZID=Europe/Berlin:20260416T164500
UID:Z40484AZ-20260416T133000@VHSCRAILSHEIM
SUMMARY:Berufsbezogener Deutschkurs (DeuFöV) für Auszubildende-Gewerbe und Technik (Z40484AZ) 
LOCATION:Gewerbliche Schule, Blaufelder Str. 10, Blaufelder Str. 10, 74564 Crailsheim
END:VEVENT
BEGIN:VEVENT
DTSTAMP:20260425T214425
DTSTART;TZID=Europe/Berlin:20260421T133000
DTEND;TZID=Europe/Berlin:20260421T164500
UID:Z40484AZ-20260421T133000@VHSCRAILSHEIM
SUMMARY:Berufsbezogener Deutschkurs (DeuFöV) für Auszubildende-Gewerbe und Technik (Z40484AZ) 
LOCATION:Gewerbliche Schule, Blaufelder Str. 10, Blaufelder Str. 10, 74564 Crailsheim
END:VEVENT
BEGIN:VEVENT
DTSTAMP:20260425T214425
DTSTART;TZID=Europe/Berlin:20260423T133000
DTEND;TZID=Europe/Berlin:20260423T164500
UID:Z40484AZ-20260423T133000@VHSCRAILSHEIM
SUMMARY:Berufsbezogener Deutschkurs (DeuFöV) für Auszubildende-Gewerbe und Technik (Z40484AZ) 
LOCATION:Gewerbliche Schule, Blaufelder Str. 10, Blaufelder Str. 10, 74564 Crailsheim
END:VEVENT
BEGIN:VEVENT
DTSTAMP:20260425T214425
DTSTART;TZID=Europe/Berlin:20260428T133000
DTEND;TZID=Europe/Berlin:20260428T164500
UID:Z40484AZ-20260428T133000@VHSCRAILSHEIM
SUMMARY:Berufsbezogener Deutschkurs (DeuFöV) für Auszubildende-Gewerbe und Technik (Z40484AZ) 
LOCATION:Gewerbliche Schule, Blaufelder Str. 10, Blaufelder Str. 10, 74564 Crailsheim
END:VEVENT
BEGIN:VEVENT
DTSTAMP:20260425T214425
DTSTART;TZID=Europe/Berlin:20260430T133000
DTEND;TZID=Europe/Berlin:20260430T164500
UID:Z40484AZ-20260430T133000@VHSCRAILSHEIM
SUMMARY:Berufsbezogener Deutschkurs (DeuFöV) für Auszubildende-Gewerbe und Technik (Z40484AZ) 
LOCATION:Gewerbliche Schule, Blaufelder Str. 10, Blaufelder Str. 10, 74564 Crailsheim
END:VEVENT
BEGIN:VEVENT
DTSTAMP:20260425T214425
DTSTART;TZID=Europe/Berlin:20260505T133000
DTEND;TZID=Europe/Berlin:20260505T164500
UID:Z40484AZ-20260505T133000@VHSCRAILSHEIM
SUMMARY:Berufsbezogener Deutschkurs (DeuFöV) für Auszubildende-Gewerbe und Technik (Z40484AZ) 
LOCATION:Gewerbliche Schule, Blaufelder Str. 10, Blaufelder Str. 10, 74564 Crailsheim
END:VEVENT
BEGIN:VEVENT
DTSTAMP:20260425T214425
DTSTART;TZID=Europe/Berlin:20260507T133000
DTEND;TZID=Europe/Berlin:20260507T164500
UID:Z40484AZ-20260507T133000@VHSCRAILSHEIM
SUMMARY:Berufsbezogener Deutschkurs (DeuFöV) für Auszubildende-Gewerbe und Technik (Z40484AZ) 
LOCATION:Gewerbliche Schule, Blaufelder Str. 10, Blaufelder Str. 10, 74564 Crailsheim
END:VEVENT
BEGIN:VEVENT
DTSTAMP:20260425T214425
DTSTART;TZID=Europe/Berlin:20260512T133000
DTEND;TZID=Europe/Berlin:20260512T164500
UID:Z40484AZ-20260512T133000@VHSCRAILSHEIM
SUMMARY:Berufsbezogener Deutschkurs (DeuFöV) für Auszubildende-Gewerbe und Technik (Z40484AZ) 
LOCATION:Gewerbliche Schule, Blaufelder Str. 10, Blaufelder Str. 10, 74564 Crailsheim
END:VEVENT
BEGIN:VEVENT
DTSTAMP:20260425T214425
DTSTART;TZID=Europe/Berlin:20260519T133000
DTEND;TZID=Europe/Berlin:20260519T164500
UID:Z40484AZ-20260519T133000@VHSCRAILSHEIM
SUMMARY:Berufsbezogener Deutschkurs (DeuFöV) für Auszubildende-Gewerbe und Technik (Z40484AZ) 
LOCATION:Gewerbliche Schule, Blaufelder Str. 10, Blaufelder Str. 10, 74564 Crailsheim
END:VEVENT
BEGIN:VEVENT
DTSTAMP:20260425T214425
DTSTART;TZID=Europe/Berlin:20260521T133000
DTEND;TZID=Europe/Berlin:20260521T164500
UID:Z40484AZ-20260521T133000@VHSCRAILSHEIM
SUMMARY:Berufsbezogener Deutschkurs (DeuFöV) für Auszubildende-Gewerbe und Technik (Z40484AZ) 
LOCATION:Gewerbliche Schule, Blaufelder Str. 10, Blaufelder Str. 10, 74564 Crailsheim
END:VEVENT
BEGIN:VEVENT
DTSTAMP:20260425T214425
DTSTART;TZID=Europe/Berlin:20260609T133000
DTEND;TZID=Europe/Berlin:20260609T164500
UID:Z40484AZ-20260609T133000@VHSCRAILSHEIM
SUMMARY:Berufsbezogener Deutschkurs (DeuFöV) für Auszubildende-Gewerbe und Technik (Z40484AZ) 
LOCATION:Gewerbliche Schule, Blaufelder Str. 10, Blaufelder Str. 10, 74564 Crailsheim
END:VEVENT
BEGIN:VEVENT
DTSTAMP:20260425T214425
DTSTART;TZID=Europe/Berlin:20260611T133000
DTEND;TZID=Europe/Berlin:20260611T164500
UID:Z40484AZ-20260611T133000@VHSCRAILSHEIM
SUMMARY:Berufsbezogener Deutschkurs (DeuFöV) für Auszubildende-Gewerbe und Technik (Z40484AZ) 
LOCATION:Gewerbliche Schule, Blaufelder Str. 10, Blaufelder Str. 10, 74564 Crailsheim
END:VEVENT
BEGIN:VEVENT
DTSTAMP:20260425T214425
DTSTART;TZID=Europe/Berlin:20260616T133000
DTEND;TZID=Europe/Berlin:20260616T164500
UID:Z40484AZ-20260616T133000@VHSCRAILSHEIM
SUMMARY:Berufsbezogener Deutschkurs (DeuFöV) für Auszubildende-Gewerbe und Technik (Z40484AZ) 
LOCATION:Gewerbliche Schule, Blaufelder Str. 10, Blaufelder Str. 10, 74564 Crailsheim
END:VEVENT
BEGIN:VEVENT
DTSTAMP:20260425T214425
DTSTART;TZID=Europe/Berlin:20260618T133000
DTEND;TZID=Europe/Berlin:20260618T164500
UID:Z40484AZ-20260618T133000@VHSCRAILSHEIM
SUMMARY:Berufsbezogener Deutschkurs (DeuFöV) für Auszubildende-Gewerbe und Technik (Z40484AZ) 
LOCATION:Gewerbliche Schule, Blaufelder Str. 10, Blaufelder Str. 10, 74564 Crailsheim
END:VEVENT
BEGIN:VEVENT
DTSTAMP:20260425T214425
DTSTART;TZID=Europe/Berlin:20260623T133000
DTEND;TZID=Europe/Berlin:20260623T164500
UID:Z40484AZ-20260623T133000@VHSCRAILSHEIM
SUMMARY:Berufsbezogener Deutschkurs (DeuFöV) für Auszubildende-Gewerbe und Technik (Z40484AZ) 
LOCATION:Gewerbliche Schule, Blaufelder Str. 10, Blaufelder Str. 10, 74564 Crailsheim
END:VEVENT
BEGIN:VEVENT
DTSTAMP:20260425T214425
DTSTART;TZID=Europe/Berlin:20260625T133000
DTEND;TZID=Europe/Berlin:20260625T164500
UID:Z40484AZ-20260625T133000@VHSCRAILSHEIM
SUMMARY:Berufsbezogener Deutschkurs (DeuFöV) für Auszubildende-Gewerbe und Technik (Z40484AZ) 
LOCATION:Gewerbliche Schule, Blaufelder Str. 10, Blaufelder Str. 10, 74564 Crailsheim
END:VEVENT
BEGIN:VEVENT
DTSTAMP:20260425T214425
DTSTART;TZID=Europe/Berlin:20260630T133000
DTEND;TZID=Europe/Berlin:20260630T164500
UID:Z40484AZ-20260630T133000@VHSCRAILSHEIM
SUMMARY:Berufsbezogener Deutschkurs (DeuFöV) für Auszubildende-Gewerbe und Technik (Z40484AZ) 
LOCATION:Gewerbliche Schule, Blaufelder Str. 10, Blaufelder Str. 10, 74564 Crailsheim
END:VEVENT
BEGIN:VEVENT
DTSTAMP:20260425T214425
DTSTART;TZID=Europe/Berlin:20260702T133000
DTEND;TZID=Europe/Berlin:20260702T164500
UID:Z40484AZ-20260702T133000@VHSCRAILSHEIM
SUMMARY:Berufsbezogener Deutschkurs (DeuFöV) für Auszubildende-Gewerbe und Technik (Z40484AZ) 
LOCATION:Gewerbliche Schule, Blaufelder Str. 10, Blaufelder Str. 10, 74564 Crailsheim
END:VEVENT
BEGIN:VEVENT
DTSTAMP:20260425T214425
DTSTART;TZID=Europe/Berlin:20260707T133000
DTEND;TZID=Europe/Berlin:20260707T164500
UID:Z40484AZ-20260707T133000@VHSCRAILSHEIM
SUMMARY:Berufsbezogener Deutschkurs (DeuFöV) für Auszubildende-Gewerbe und Technik (Z40484AZ) 
LOCATION:Gewerbliche Schule, Blaufelder Str. 10, Blaufelder Str. 10, 74564 Crailsheim
END:VEVENT
BEGIN:VEVENT
DTSTAMP:20260425T214425
DTSTART;TZID=Europe/Berlin:20260709T133000
DTEND;TZID=Europe/Berlin:20260709T164500
UID:Z40484AZ-20260709T133000@VHSCRAILSHEIM
SUMMARY:Berufsbezogener Deutschkurs (DeuFöV) für Auszubildende-Gewerbe und Technik (Z40484AZ) 
LOCATION:Gewerbliche Schule, Blaufelder Str. 10, Blaufelder Str. 10, 74564 Crailsheim
END:VEVENT
BEGIN:VEVENT
DTSTAMP:20260425T214425
DTSTART;TZID=Europe/Berlin:20260714T133000
DTEND;TZID=Europe/Berlin:20260714T164500
UID:Z40484AZ-20260714T133000@VHSCRAILSHEIM
SUMMARY:Berufsbezogener Deutschkurs (DeuFöV) für Auszubildende-Gewerbe und Technik (Z40484AZ) 
LOCATION:Gewerbliche Schule, Blaufelder Str. 10, Blaufelder Str. 10, 74564 Crailsheim
END:VEVENT
BEGIN:VEVENT
DTSTAMP:20260425T214425
DTSTART;TZID=Europe/Berlin:20260716T133000
DTEND;TZID=Europe/Berlin:20260716T164500
UID:Z40484AZ-20260716T133000@VHSCRAILSHEIM
SUMMARY:Berufsbezogener Deutschkurs (DeuFöV) für Auszubildende-Gewerbe und Technik (Z40484AZ) 
LOCATION:Gewerbliche Schule, Blaufelder Str. 10, Blaufelder Str. 10, 74564 Crailsheim
END:VEVENT
BEGIN:VEVENT
DTSTAMP:20260425T214425
DTSTART;TZID=Europe/Berlin:20260721T133000
DTEND;TZID=Europe/Berlin:20260721T164500
UID:Z40484AZ-20260721T133000@VHSCRAILSHEIM
SUMMARY:Berufsbezogener Deutschkurs (DeuFöV) für Auszubildende-Gewerbe und Technik (Z40484AZ) 
LOCATION:Gewerbliche Schule, Blaufelder Str. 10, Blaufelder Str. 10, 74564 Crailsheim
END:VEVENT
BEGIN:VEVENT
DTSTAMP:20260425T214425
DTSTART;TZID=Europe/Berlin:20260723T133000
DTEND;TZID=Europe/Berlin:20260723T164500
UID:Z40484AZ-20260723T133000@VHSCRAILSHEIM
SUMMARY:Berufsbezogener Deutschkurs (DeuFöV) für Auszubildende-Gewerbe und Technik (Z40484AZ) 
LOCATION:Gewerbliche Schule, Blaufelder Str. 10, Blaufelder Str. 10, 74564 Crailsheim
END:VEVENT
END:VCALENDAR