BEGIN:VCALENDAR
VERSION:2.0
PRODID:http://www.kufer.de/kuferweb / DE
METHOD:PUBLISH
CALSCALE:GREGORIAN
X-WR-TIMEZONE:Europe/Berlin
BEGIN:VTIMEZONE
TZID:Europe/Berlin
X-LIC-LOCATION:Europe/Berlin
BEGIN:DAYLIGHT
TZOFFSETFROM:+0100
TZOFFSETTO:+0200
TZNAME:CEST
DTSTART;TZID=Europe/Berlin:19700329T020000
RRULE:FREQ=YEARLY;INTERVAL=1;BYDAY=-1SU;BYMONTH=3
END:DAYLIGHT
BEGIN:STANDARD
TZOFFSETFROM:+0200
TZOFFSETTO:+0100
TZNAME:CET
DTSTART;TZID=Europe/Berlin:19701025T030000
RRULE:FREQ=YEARLY;INTERVAL=1;BYDAY=-1SU;BYMONTH=10
END:STANDARD
END:VTIMEZONE
BEGIN:VEVENT
DTSTAMP:20260425T131450
DTSTART;TZID=Europe/Berlin:20260727T180000
DTEND;TZID=Europe/Berlin:20260727T210000
UID:Z40900-20260727T180000@VHSCRAILSHEIM
SUMMARY:Italienisch A1 - Sommerakademie für Anfänger*innen ohne bzw. mit sehr geringen Vorkenntnissen (Z40900) 
LOCATION:vhs, Spitalstr. 2a, Raum 11, 1. OG, Spitalstraße 2a, 74564 Crailsheim
END:VEVENT
BEGIN:VEVENT
DTSTAMP:20260425T131450
DTSTART;TZID=Europe/Berlin:20260728T180000
DTEND;TZID=Europe/Berlin:20260728T210000
UID:Z40900-20260728T180000@VHSCRAILSHEIM
SUMMARY:Italienisch A1 - Sommerakademie für Anfänger*innen ohne bzw. mit sehr geringen Vorkenntnissen (Z40900) 
LOCATION:vhs, Spitalstr. 2a, Raum 11, 1. OG, Spitalstraße 2a, 74564 Crailsheim
END:VEVENT
BEGIN:VEVENT
DTSTAMP:20260425T131450
DTSTART;TZID=Europe/Berlin:20260729T180000
DTEND;TZID=Europe/Berlin:20260729T210000
UID:Z40900-20260729T180000@VHSCRAILSHEIM
SUMMARY:Italienisch A1 - Sommerakademie für Anfänger*innen ohne bzw. mit sehr geringen Vorkenntnissen (Z40900) 
LOCATION:vhs, Spitalstr. 2a, Raum 11, 1. OG, Spitalstraße 2a, 74564 Crailsheim
END:VEVENT
BEGIN:VEVENT
DTSTAMP:20260425T131450
DTSTART;TZID=Europe/Berlin:20260730T180000
DTEND;TZID=Europe/Berlin:20260730T210000
UID:Z40900-20260730T180000@VHSCRAILSHEIM
SUMMARY:Italienisch A1 - Sommerakademie für Anfänger*innen ohne bzw. mit sehr geringen Vorkenntnissen (Z40900) 
LOCATION:vhs, Spitalstr. 2a, Raum 11, 1. OG, Spitalstraße 2a, 74564 Crailsheim
END:VEVENT
BEGIN:VEVENT
DTSTAMP:20260425T131450
DTSTART;TZID=Europe/Berlin:20260731T180000
DTEND;TZID=Europe/Berlin:20260731T210000
UID:Z40900-20260731T180000@VHSCRAILSHEIM
SUMMARY:Italienisch A1 - Sommerakademie für Anfänger*innen ohne bzw. mit sehr geringen Vorkenntnissen (Z40900) 
LOCATION:vhs, Spitalstr. 2a, Raum 11, 1. OG, Spitalstraße 2a, 74564 Crailsheim
END:VEVENT
END:VCALENDAR