BEGIN:VCALENDAR
VERSION:2.0
PRODID:http://www.kufer.de/kuferweb / DE
METHOD:PUBLISH
CALSCALE:GREGORIAN
X-WR-TIMEZONE:Europe/Berlin
BEGIN:VTIMEZONE
TZID:Europe/Berlin
X-LIC-LOCATION:Europe/Berlin
BEGIN:DAYLIGHT
TZOFFSETFROM:+0100
TZOFFSETTO:+0200
TZNAME:CEST
DTSTART;TZID=Europe/Berlin:19700329T020000
RRULE:FREQ=YEARLY;INTERVAL=1;BYDAY=-1SU;BYMONTH=3
END:DAYLIGHT
BEGIN:STANDARD
TZOFFSETFROM:+0200
TZOFFSETTO:+0100
TZNAME:CET
DTSTART;TZID=Europe/Berlin:19701025T030000
RRULE:FREQ=YEARLY;INTERVAL=1;BYDAY=-1SU;BYMONTH=10
END:STANDARD
END:VTIMEZONE
BEGIN:VEVENT
DTSTAMP:20260425T190015
DTSTART;TZID=Europe/Berlin:20260309T190000
DTEND;TZID=Europe/Berlin:20260309T200000
UID:Z41060W-20260309T190000@VHSCRAILSHEIM
SUMMARY:Katalanisch A1 - eine Onlinesprachreise live aus Spanien für Anfänger*innen ohne bzw. mit geringen Vorkenntnissen (Z41060W) 
LOCATION:Online (vhs.cloud mit ZOOM), , 74564 Crailsheim
END:VEVENT
BEGIN:VEVENT
DTSTAMP:20260425T190015
DTSTART;TZID=Europe/Berlin:20260316T190000
DTEND;TZID=Europe/Berlin:20260316T200000
UID:Z41060W-20260316T190000@VHSCRAILSHEIM
SUMMARY:Katalanisch A1 - eine Onlinesprachreise live aus Spanien für Anfänger*innen ohne bzw. mit geringen Vorkenntnissen (Z41060W) 
LOCATION:Online (vhs.cloud mit ZOOM), , 74564 Crailsheim
END:VEVENT
BEGIN:VEVENT
DTSTAMP:20260425T190015
DTSTART;TZID=Europe/Berlin:20260323T190000
DTEND;TZID=Europe/Berlin:20260323T200000
UID:Z41060W-20260323T190000@VHSCRAILSHEIM
SUMMARY:Katalanisch A1 - eine Onlinesprachreise live aus Spanien für Anfänger*innen ohne bzw. mit geringen Vorkenntnissen (Z41060W) 
LOCATION:Online (vhs.cloud mit ZOOM), , 74564 Crailsheim
END:VEVENT
BEGIN:VEVENT
DTSTAMP:20260425T190015
DTSTART;TZID=Europe/Berlin:20260413T190000
DTEND;TZID=Europe/Berlin:20260413T200000
UID:Z41060W-20260413T190000@VHSCRAILSHEIM
SUMMARY:Katalanisch A1 - eine Onlinesprachreise live aus Spanien für Anfänger*innen ohne bzw. mit geringen Vorkenntnissen (Z41060W) 
LOCATION:Online (vhs.cloud mit ZOOM), , 74564 Crailsheim
END:VEVENT
BEGIN:VEVENT
DTSTAMP:20260425T190015
DTSTART;TZID=Europe/Berlin:20260420T190000
DTEND;TZID=Europe/Berlin:20260420T200000
UID:Z41060W-20260420T190000@VHSCRAILSHEIM
SUMMARY:Katalanisch A1 - eine Onlinesprachreise live aus Spanien für Anfänger*innen ohne bzw. mit geringen Vorkenntnissen (Z41060W) 
LOCATION:Online (vhs.cloud mit ZOOM), , 74564 Crailsheim
END:VEVENT
BEGIN:VEVENT
DTSTAMP:20260425T190015
DTSTART;TZID=Europe/Berlin:20260427T190000
DTEND;TZID=Europe/Berlin:20260427T200000
UID:Z41060W-20260427T190000@VHSCRAILSHEIM
SUMMARY:Katalanisch A1 - eine Onlinesprachreise live aus Spanien für Anfänger*innen ohne bzw. mit geringen Vorkenntnissen (Z41060W) 
LOCATION:Online (vhs.cloud mit ZOOM), , 74564 Crailsheim
END:VEVENT
BEGIN:VEVENT
DTSTAMP:20260425T190015
DTSTART;TZID=Europe/Berlin:20260504T190000
DTEND;TZID=Europe/Berlin:20260504T200000
UID:Z41060W-20260504T190000@VHSCRAILSHEIM
SUMMARY:Katalanisch A1 - eine Onlinesprachreise live aus Spanien für Anfänger*innen ohne bzw. mit geringen Vorkenntnissen (Z41060W) 
LOCATION:Online (vhs.cloud mit ZOOM), , 74564 Crailsheim
END:VEVENT
BEGIN:VEVENT
DTSTAMP:20260425T190015
DTSTART;TZID=Europe/Berlin:20260511T190000
DTEND;TZID=Europe/Berlin:20260511T200000
UID:Z41060W-20260511T190000@VHSCRAILSHEIM
SUMMARY:Katalanisch A1 - eine Onlinesprachreise live aus Spanien für Anfänger*innen ohne bzw. mit geringen Vorkenntnissen (Z41060W) 
LOCATION:Online (vhs.cloud mit ZOOM), , 74564 Crailsheim
END:VEVENT
END:VCALENDAR