BEGIN:VCALENDAR
VERSION:2.0
PRODID:http://www.kufer.de/kuferweb / DE
METHOD:PUBLISH
CALSCALE:GREGORIAN
X-WR-TIMEZONE:Europe/Berlin
BEGIN:VTIMEZONE
TZID:Europe/Berlin
X-LIC-LOCATION:Europe/Berlin
BEGIN:DAYLIGHT
TZOFFSETFROM:+0100
TZOFFSETTO:+0200
TZNAME:CEST
DTSTART;TZID=Europe/Berlin:19700329T020000
RRULE:FREQ=YEARLY;INTERVAL=1;BYDAY=-1SU;BYMONTH=3
END:DAYLIGHT
BEGIN:STANDARD
TZOFFSETFROM:+0200
TZOFFSETTO:+0100
TZNAME:CET
DTSTART;TZID=Europe/Berlin:19701025T030000
RRULE:FREQ=YEARLY;INTERVAL=1;BYDAY=-1SU;BYMONTH=10
END:STANDARD
END:VTIMEZONE
BEGIN:VEVENT
DTSTAMP:20260425T131412
DTSTART;TZID=Europe/Berlin:20260617T183000
DTEND;TZID=Europe/Berlin:20260617T200000
UID:Z42611W-20260617T183000@VHSCRAILSHEIM
SUMMARY:Gebärdensprache - Onlinekurs für Einsteiger*innen ohne Vorkenntnisse (Z42611W) 
LOCATION:Online (vhs.cloud mit ZOOM), , 74564 Crailsheim
END:VEVENT
BEGIN:VEVENT
DTSTAMP:20260425T131412
DTSTART;TZID=Europe/Berlin:20260624T183000
DTEND;TZID=Europe/Berlin:20260624T200000
UID:Z42611W-20260624T183000@VHSCRAILSHEIM
SUMMARY:Gebärdensprache - Onlinekurs für Einsteiger*innen ohne Vorkenntnisse (Z42611W) 
LOCATION:Online (vhs.cloud mit ZOOM), , 74564 Crailsheim
END:VEVENT
BEGIN:VEVENT
DTSTAMP:20260425T131412
DTSTART;TZID=Europe/Berlin:20260701T183000
DTEND;TZID=Europe/Berlin:20260701T200000
UID:Z42611W-20260701T183000@VHSCRAILSHEIM
SUMMARY:Gebärdensprache - Onlinekurs für Einsteiger*innen ohne Vorkenntnisse (Z42611W) 
LOCATION:Online (vhs.cloud mit ZOOM), , 74564 Crailsheim
END:VEVENT
END:VCALENDAR